BEGIN:VCALENDAR
VERSION:2.0
PRODID:Events Booking
BEGIN:VEVENT
UID:69e50c943e8aa
SUMMARY:Geführte Streckenwanderung zum Widderfest nach Zschetzsch
DESCRIPTION:Anmeldung erforderlich
LOCATION:Bahnhofstraße\, 04651 Bad Lausick
DTSTART:20260801T084500Z
DTEND:20260801T170000Z
DTSTAMP:20250317T093717Z
ORGANIZER;CN=Tourist-Information Bad Lausick:MAILTO:webmail@tourismus.bad-l
 ausick.de
GEO:51.143949;12.647796
X-APPLE-STRUCTURED-LOCATION;VALUE=URI;X-ADDRESS=Bahnhofstraße\, 04651 Bad 
 Lausick;X-APPLE-RADIUS=72;X-TITLE=Bad Lausick\, Bahnhof - Westseite:51.143
 949;12.647796
END:VEVENT
END:VCALENDAR