BEGIN:VCALENDAR
VERSION:2.0
PRODID:Events Booking
BEGIN:VEVENT
UID:69e50bb6f384d
SUMMARY:\"Wandelkonzert im Bad Lausicker Kurpark\" mit der Sächsischen Bl
 äserphilharmonie
DESCRIPTION:Eintritt frei!
LOCATION:Parkstraße\, 04651 Bad Lausick
DTSTART:20260823T130000Z
DTEND:20260823T143000Z
DTSTAMP:20240506T105918Z
ORGANIZER;CN=Tourist-Information Bad Lausick:MAILTO:webmail@tourismus.bad-l
 ausick.de
GEO:51.150048;12.649646
X-APPLE-STRUCTURED-LOCATION;VALUE=URI;X-ADDRESS=Parkstraße\, 04651 Bad Lau
 sick;X-APPLE-RADIUS=72;X-TITLE=Bad Lausick\, Freilichtbühne Schmetterling
 :51.150048;12.649646
END:VEVENT
END:VCALENDAR