BEGIN:VCALENDAR
VERSION:2.0
PRODID:Events Booking
BEGIN:VEVENT
UID:69e50bdd5cba2
SUMMARY:Botanische Kurparkführung   
DESCRIPTION:für Gäste mit Kur-/Gästekarte kostenlos
LOCATION:Parkstraße\, 04651 Bad Lausick
DTSTART:20261108T083000Z
DTSTAMP:20250603T084347Z
ORGANIZER;CN=Tourist-Information Bad Lausick:MAILTO:webmail@tourismus.bad-l
 ausick.de
GEO:51.149225;12.647337
X-APPLE-STRUCTURED-LOCATION;VALUE=URI;X-ADDRESS=Parkstraße\, 04651 Bad Lau
 sick;X-APPLE-RADIUS=72;X-TITLE=Bad Lausick\, Parkstraße/Kurparktor:51.149
 225;12.647337
END:VEVENT
END:VCALENDAR