BEGIN:VCALENDAR
VERSION:2.0
PRODID:Events Booking
BEGIN:VEVENT
UID:69e51fc9aced8
SUMMARY:Die Tourist-Information Bad Lausick - Haus mit Geschichte
DESCRIPTION:
LOCATION:Straße der Einheit 21\, 04651 Bad Lausick
DTSTART:20260913T110000Z
DTEND:20260913T150000Z
DTSTAMP:20250618T054403Z
ORGANIZER;CN=Tourist-Information Bad Lausick:MAILTO:webmail@tourismus.bad-l
 ausick.de
GEO:51.144472;12.641706
X-APPLE-STRUCTURED-LOCATION;VALUE=URI;X-ADDRESS=Straße der Einheit 21\, 04
 651 Bad Lausick;X-APPLE-RADIUS=72;X-TITLE=Bad Lausick\, Tourist-Informatio
 n :51.144472;12.641706
END:VEVENT
END:VCALENDAR