BEGIN:VCALENDAR
VERSION:2.0
PRODID:Events Booking
BEGIN:VEVENT
UID:69e738c51ab01
SUMMARY:Antreten - Kneipp-Saisoneröffnung
DESCRIPTION:mit dem Kneipp-Verein Bad Lausick e. V.
LOCATION:Talstraße\, 04651 Bad Lausick
DTSTART:20260322T090000Z
DTSTAMP:20251126T103015Z
ORGANIZER;CN=Tourist-Information Bad Lausick:MAILTO:webmail@tourismus.bad-l
 ausick.de
GEO:51.146065;12.65419
X-APPLE-STRUCTURED-LOCATION;VALUE=URI;X-ADDRESS=Talstraße\, 04651 Bad Laus
 ick;X-APPLE-RADIUS=72;X-TITLE=Bad Lausick\, Tretbecken im Kneipp-Kurpark a
 m Schwanenteich:51.146065;12.65419
END:VEVENT
END:VCALENDAR