BEGIN:VCALENDAR
VERSION:2.0
PRODID:Events Booking
BEGIN:VEVENT
UID:69e51f916f30b
SUMMARY:Vokalkonzert
DESCRIPTION:mit dem Motettenchor Grimma
LOCATION:Straße der Einheit 27\, 04651 Bad Lausick
DTSTART:20261010T170000Z
DTSTAMP:20251209T061004Z
ORGANIZER;CN=Tourist-Information Bad Lausick:MAILTO:webmail@tourismus.bad-l
 ausick.de
GEO:51.14468;12.640863
X-APPLE-STRUCTURED-LOCATION;VALUE=URI;X-ADDRESS=Straße der Einheit 27\, 04
 651 Bad Lausick;X-APPLE-RADIUS=72;X-TITLE=Bad Lausick\, St. Kilianskirche:
 51.14468;12.640863
END:VEVENT
END:VCALENDAR