BEGIN:VCALENDAR
VERSION:2.0
PRODID:Events Booking
BEGIN:VEVENT
UID:69e50bdd69a53
SUMMARY:Konzert für Violine und Orgel \"1723\"
DESCRIPTION:Eintritt 15 €
LOCATION:Straße der Einheit 27\, 04651 Bad Lausick
DTSTART:20261114T180000Z
DTSTAMP:20251209T061150Z
ORGANIZER;CN=Tourist-Information Bad Lausick:MAILTO:webmail@tourismus.bad-l
 ausick.de
GEO:51.14468;12.640863
X-APPLE-STRUCTURED-LOCATION;VALUE=URI;X-ADDRESS=Straße der Einheit 27\, 04
 651 Bad Lausick;X-APPLE-RADIUS=72;X-TITLE=Bad Lausick\, St. Kilianskirche:
 51.14468;12.640863
END:VEVENT
END:VCALENDAR