BEGIN:VCALENDAR
VERSION:2.0
PRODID:Events Booking
BEGIN:VEVENT
UID:69e51fe3e1287
SUMMARY:Oktoberfest in Tracht mit Programm & Musik
DESCRIPTION:Verzehrgutschein á 15 €/Person im Vorverkauf
LOCATION:Alte Dorfstraße 16\, 04651 Bad Lausick OT Ballendorf
DTSTART:20260919T160000Z
DTSTAMP:20260203T100746Z
ORGANIZER;CN=Tourist-Information Bad Lausick:MAILTO:webmail@tourismus.bad-l
 ausick.de
GEO:51.136868;12.691189
X-APPLE-STRUCTURED-LOCATION;VALUE=URI;X-ADDRESS=Alte Dorfstraße 16\, 04651
  Bad Lausick OT Ballendorf;X-APPLE-RADIUS=72;X-TITLE=Ballendorf\, Restaura
 nt HAUS 16:51.136868;12.691189
END:VEVENT
END:VCALENDAR