BEGIN:VCALENDAR
VERSION:2.0
PRODID:Events Booking
BEGIN:VEVENT
UID:69e51fc3d3cb0
SUMMARY:Tag des offenen Denkmals
DESCRIPTION:\"NetzWERKE: Denkmale &amp\; Infrastruktur\"
LOCATION:Straße der Einheit 34\, 04651 Bad Lausick
DTSTART:20260912T220000Z
DTSTAMP:20260212T134843Z
ORGANIZER;CN=Tourist-Information Bad Lausick:MAILTO:webmail@tourismus.bad-l
 ausick.de
GEO:51.144259;12.641091
X-APPLE-STRUCTURED-LOCATION;VALUE=URI;X-ADDRESS=Straße der Einheit 34\, 04
 651 Bad Lausick;X-APPLE-RADIUS=72;X-TITLE=Bad Lausick\, Lebendige Ecke:51.
 144259;12.641091
END:VEVENT
END:VCALENDAR