BEGIN:VCALENDAR
VERSION:2.0
PRODID:Events Booking
BEGIN:VEVENT
UID:69e4f33076468
SUMMARY:Der Hofladen ist geöffnet.
DESCRIPTION:
LOCATION:Am Butterberg 9\, 04651 Bad Lausick OT Ballendorf
DTSTART:20261218T090000Z
DTEND:20261218T170000Z
DTSTAMP:20260324T132657Z
ORGANIZER;CN=Tourist-Information Bad Lausick:MAILTO:webmail@tourismus.bad-l
 ausick.de
GEO:51.140391;12.687696
X-APPLE-STRUCTURED-LOCATION;VALUE=URI;X-ADDRESS=Am Butterberg 9\, 04651 Bad
  Lausick OT Ballendorf;X-APPLE-RADIUS=72;X-TITLE=Hofladen der Agrargesells
 chaft Bad Lausick:51.140391;12.687696
END:VEVENT
END:VCALENDAR