BEGIN:VCALENDAR
VERSION:2.0
PRODID:Events Booking
BEGIN:VEVENT
UID:69e4de197278a
SUMMARY:Film mit Gespräch \"Stolz und Eigensinn\"
DESCRIPTION:Eintritt frei
LOCATION:Straße der Einheit 34\, 04651 Bad Lausick
DTSTART:20260420T170000Z
DTSTAMP:20260413T062418Z
ORGANIZER;CN=Tourist-Information Bad Lausick:MAILTO:webmail@tourismus.bad-l
 ausick.de
GEO:51.144259;12.641091
X-APPLE-STRUCTURED-LOCATION;VALUE=URI;X-ADDRESS=Straße der Einheit 34\, 04
 651 Bad Lausick;X-APPLE-RADIUS=72;X-TITLE=Bad Lausick\, Lebendige Ecke:51.
 144259;12.641091
END:VEVENT
END:VCALENDAR