BEGIN:VCALENDAR
VERSION:2.0
PRODID:Events Booking
BEGIN:VEVENT
UID:69ec2678ce664
SUMMARY:Modenschau mit MK Mode Nr. 1 aus Leipzig
DESCRIPTION:Diese Veranstaltung findet leider nicht statt.
LOCATION:Badstraße 35\, 04651 Bad Lausick
DTSTART:20260430T170000Z
DTSTAMP:20260413T065512Z
ORGANIZER;CN=Tourist-Information Bad Lausick:MAILTO:webmail@tourismus.bad-l
 ausick.de
GEO:51.148449;12.650569
X-APPLE-STRUCTURED-LOCATION;VALUE=URI;X-ADDRESS=Badstraße 35\, 04651 Bad L
 ausick;X-APPLE-RADIUS=72;X-TITLE=Bad Lausick\, Haus Herrmannsbad:51.148449
 ;12.650569
END:VEVENT
END:VCALENDAR