BEGIN:VCALENDAR
VERSION:2.0
PRODID:Events Booking
BEGIN:VEVENT
UID:69e51f104ddda
SUMMARY:\"Sameach\" jüdisches Fest der Sinne
DESCRIPTION:Tickets gibt es in der Tourist-Information Bad LausickSitzplatz
  19\,03 €Schüler\, Studierende\, Schwerbehinderte 16\,18 €
LOCATION:Gutshof 1\, 04651 Bad Lausick OT Beucha
DTSTART:20260905T160000Z
DTSTAMP:20260413T112820Z
ORGANIZER;CN=Tourist-Information Bad Lausick:MAILTO:webmail@tourismus.bad-l
 ausick.de
GEO:51.148776;12.586273
X-APPLE-STRUCTURED-LOCATION;VALUE=URI;X-ADDRESS=Gutshof 1\, 04651 Bad Lausi
 ck OT Beucha;X-APPLE-RADIUS=72;X-TITLE=Beucha\, Schloss/Herrenhaus :51.148
 776;12.586273
END:VEVENT
END:VCALENDAR