BEGIN:VCALENDAR
VERSION:2.0
PRODID:Events Booking
BEGIN:VEVENT
UID:69eba550f15a9
SUMMARY:Traditionelles Maibumsetzen
DESCRIPTION:Eintritt frei
LOCATION:Alte Straße\, 04651 Bad Lausick OT Buchheim
DTSTART:20260430T150000Z
DTSTAMP:20260417T055636Z
ORGANIZER;CN=Tourist-Information Bad Lausick:MAILTO:webmail@tourismus.bad-l
 ausick.de
GEO:51.128367;12.663771
X-APPLE-STRUCTURED-LOCATION;VALUE=URI;X-ADDRESS=Alte Straße\, 04651 Bad La
 usick OT Buchheim;X-APPLE-RADIUS=72;X-TITLE=Buchheim\, Gerätehaus der FFW
  :51.128367;12.663771
END:VEVENT
END:VCALENDAR